BEGIN:VCALENDAR
VERSION:2.0
PRODID:icalendar-ruby
CALSCALE:GREGORIAN
METHOD:PUBLISH
BEGIN:VEVENT
DTSTAMP:20260420T051710Z
UID:9eccbcf4-e47e-48df-b03d-cd3d3443e644
DTSTART;VALUE=DATE:20250915
DTEND;VALUE=DATE:20250915
DESCRIPTION:Hagerstown BMX
LOCATION:Fairground Ave & Cross St  Hagerstown MD 21740 USA
SUMMARY:Local Race Single
URL:/site/bmx_races/575441
END:VEVENT
END:VCALENDAR
