BEGIN:VCALENDAR
VERSION:2.0
PRODID:icalendar-ruby
CALSCALE:GREGORIAN
METHOD:PUBLISH
BEGIN:VEVENT
DTSTAMP:20260424T184214Z
UID:4b633662-4d24-45bc-8d70-48e14b8567e5
DTSTART;VALUE=DATE:20241116
DTEND;VALUE=DATE:20241116
DESCRIPTION:Emery Park BMX
LOCATION:2339 E Mac Arthur Rd  Wichita KS 67216 USA
SUMMARY:Local Race Single
URL:/site/bmx_races/576256
END:VEVENT
END:VCALENDAR
