BEGIN:VCALENDAR
VERSION:2.0
PRODID:icalendar-ruby
CALSCALE:GREGORIAN
METHOD:PUBLISH
BEGIN:VEVENT
DTSTAMP:20260420T170059Z
UID:724948ee-c2d2-4903-aefb-43cefd53ad28
DTSTART;VALUE=DATE:20241117
DTEND;VALUE=DATE:20241117
DESCRIPTION:Marysville BMX
LOCATION:618 N Main St  Marysville OH 43040 USA
SUMMARY:Practice
URL:/site/bmx_races/576285
END:VEVENT
END:VCALENDAR
