BEGIN:VCALENDAR
VERSION:2.0
PRODID:icalendar-ruby
CALSCALE:GREGORIAN
METHOD:PUBLISH
BEGIN:VEVENT
DTSTAMP:20260425T131733Z
UID:e9da4afe-e92d-4436-8910-9731db51000c
DTSTART;VALUE=DATE:20250701
DTEND;VALUE=DATE:20250701
DESCRIPTION:Cobb County BMX
LOCATION:3820 Macedonia Rd  Powder Springs GA 30127 USA
SUMMARY:Local Race Single
URL:/site/bmx_races/576493
END:VEVENT
END:VCALENDAR
