BEGIN:VCALENDAR
VERSION:2.0
PRODID:icalendar-ruby
CALSCALE:GREGORIAN
METHOD:PUBLISH
BEGIN:VEVENT
DTSTAMP:20260424T043101Z
UID:f23310b8-1847-4066-a0e5-ff425a26dce2
DTSTART;VALUE=DATE:20250715
DTEND;VALUE=DATE:20250715
DESCRIPTION:Cobb County BMX
LOCATION:3820 Macedonia Rd  Powder Springs GA 30127 USA
SUMMARY:Local Race Single
URL:/site/bmx_races/576495
END:VEVENT
END:VCALENDAR
