BEGIN:VCALENDAR
VERSION:2.0
PRODID:icalendar-ruby
CALSCALE:GREGORIAN
METHOD:PUBLISH
BEGIN:VEVENT
DTSTAMP:20260423T053228Z
UID:9ce81aab-80aa-4a27-b817-849029fc8d51
DTSTART;VALUE=DATE:20250529
DTEND;VALUE=DATE:20250529
DESCRIPTION:Central Wisconsin BMX
LOCATION:2220 E Riverview Expy\,  Wisconsin Rapids WI 54494 USA
SUMMARY:Local Race Single
URL:/site/bmx_races/576725
END:VEVENT
END:VCALENDAR
