BEGIN:VCALENDAR
VERSION:2.0
PRODID:icalendar-ruby
CALSCALE:GREGORIAN
METHOD:PUBLISH
BEGIN:VEVENT
DTSTAMP:20260423T005432Z
UID:d3d61f3c-9b39-43c6-be49-ccc7c8c01f65
DTSTART;VALUE=DATE:20250323
DTEND;VALUE=DATE:20250323
DESCRIPTION:Music City BMX Association
LOCATION:2901 Bell Road  Nashville TN 37217 USA
SUMMARY:Local Race Single
URL:/site/bmx_races/576997
END:VEVENT
END:VCALENDAR
