BEGIN:VCALENDAR
VERSION:2.0
PRODID:icalendar-ruby
CALSCALE:GREGORIAN
METHOD:PUBLISH
BEGIN:VEVENT
DTSTAMP:20260423T170921Z
UID:a1d6ced5-d852-41fa-bcde-263c84b98935
DTSTART;VALUE=DATE:20250524
DTEND;VALUE=DATE:20250524
DESCRIPTION:Desoto BMX
LOCATION:Grimes Park 500 E. Centre Park Blvd Desoto TX 75115 USA
SUMMARY:Local Race Single
URL:/site/bmx_races/577357
END:VEVENT
END:VCALENDAR
