BEGIN:VCALENDAR
VERSION:2.0
PRODID:icalendar-ruby
CALSCALE:GREGORIAN
METHOD:PUBLISH
BEGIN:VEVENT
DTSTAMP:20260423T055333Z
UID:89a5e344-1eb7-4672-baf7-7b1abdf0b86e
DTSTART;VALUE=DATE:20250515
DTEND;VALUE=DATE:20250515
DESCRIPTION:Waterford Oaks BMX
LOCATION:1702 Scott Lake Rd  Waterford MI 48328 USA
SUMMARY:Local Race Single
URL:/site/bmx_races/577513
END:VEVENT
END:VCALENDAR
