BEGIN:VCALENDAR
VERSION:2.0
PRODID:icalendar-ruby
CALSCALE:GREGORIAN
METHOD:PUBLISH
BEGIN:VEVENT
DTSTAMP:20260424T214613Z
UID:8d65e309-6e6e-442d-8e89-e2a3c0d907f9
DTSTART;VALUE=DATE:20250807
DTEND;VALUE=DATE:20250807
DESCRIPTION:Waterford Oaks BMX
LOCATION:1702 Scott Lake Rd  Waterford MI 48328 USA
SUMMARY:Local Race Single
URL:/site/bmx_races/577525
END:VEVENT
END:VCALENDAR
