BEGIN:VCALENDAR
VERSION:2.0
PRODID:icalendar-ruby
CALSCALE:GREGORIAN
METHOD:PUBLISH
BEGIN:VEVENT
DTSTAMP:20260420T100116Z
UID:c4283fd3-5470-4d40-b043-3765f9612ef8
DTSTART;VALUE=DATE:20250511
DTEND;VALUE=DATE:20250511
DESCRIPTION:Billerica BMX
LOCATION:270 Treble Cove Rd  Billerica MA 01821 USA
SUMMARY:Local Race Single
URL:/site/bmx_races/577601
END:VEVENT
END:VCALENDAR
