BEGIN:VCALENDAR
VERSION:2.0
PRODID:icalendar-ruby
CALSCALE:GREGORIAN
METHOD:PUBLISH
BEGIN:VEVENT
DTSTAMP:20260425T191500Z
UID:c4af8333-edfb-4a5c-8a01-0e7e4f3476b1
DTSTART;VALUE=DATE:20250518
DTEND;VALUE=DATE:20250518
DESCRIPTION:Moses Lake BMX
LOCATION:610 Yakima Ave  Moses Lake WA 98837 USA
SUMMARY:Gold Cup Qualifier Triple
URL:/site/bmx_races/577737
END:VEVENT
END:VCALENDAR
