BEGIN:VCALENDAR
VERSION:2.0
PRODID:icalendar-ruby
CALSCALE:GREGORIAN
METHOD:PUBLISH
BEGIN:VEVENT
DTSTAMP:20260425T002712Z
UID:36d38d0a-8e8b-4698-ab7d-e010b7cc4416
DTSTART;VALUE=DATE:20250802
DTEND;VALUE=DATE:20250802
DESCRIPTION:Electric City BMX
LOCATION:1200 21st Ave So  Great Falls MT 59405 USA
SUMMARY:State Race Double
URL:/site/bmx_races/577983
END:VEVENT
END:VCALENDAR
