BEGIN:VCALENDAR
VERSION:2.0
PRODID:icalendar-ruby
CALSCALE:GREGORIAN
METHOD:PUBLISH
BEGIN:VEVENT
DTSTAMP:20260425T214458Z
UID:7a78ec7e-4116-4f30-9c5e-10b6ccdc2eed
DTSTART;VALUE=DATE:20131123
DTEND;VALUE=DATE:20131123
DESCRIPTION:Peninsula Indoor BMX
LOCATION:5867 Dogwood Road Se  Port Orchard WA 98367 USA
SUMMARY:Local Race Single
URL:/site/bmx_races/57806
END:VEVENT
END:VCALENDAR
