BEGIN:VCALENDAR
VERSION:2.0
PRODID:icalendar-ruby
CALSCALE:GREGORIAN
METHOD:PUBLISH
BEGIN:VEVENT
DTSTAMP:20260425T202312Z
UID:6572b8ff-7c43-4e6d-87b2-ca999ec000d9
DTSTART;VALUE=DATE:20131204
DTEND;VALUE=DATE:20131204
DESCRIPTION:Peninsula Indoor BMX
LOCATION:5867 Dogwood Road Se  Port Orchard WA 98367 USA
SUMMARY:Practice
URL:/site/bmx_races/57812
END:VEVENT
END:VCALENDAR
