BEGIN:VCALENDAR
VERSION:2.0
PRODID:icalendar-ruby
CALSCALE:GREGORIAN
METHOD:PUBLISH
BEGIN:VEVENT
DTSTAMP:20260425T234618Z
UID:e5717921-0ea5-439f-aedb-423e231fd36d
DTSTART;VALUE=DATE:20250411
DTEND;VALUE=DATE:20250411
DESCRIPTION:Metro BMX
LOCATION:3805 Chester Ave  In The Sam Lynn Ballpark Complex Bakersfield CA 
 93301 USA
SUMMARY:Local Race Single
URL:/site/bmx_races/578183
END:VEVENT
END:VCALENDAR
