BEGIN:VCALENDAR
VERSION:2.0
PRODID:icalendar-ruby
CALSCALE:GREGORIAN
METHOD:PUBLISH
BEGIN:VEVENT
DTSTAMP:20260424T030323Z
UID:bc36fc6e-8170-4e73-aed9-8d554c287947
DTSTART;VALUE=DATE:20250530
DTEND;VALUE=DATE:20250530
DESCRIPTION:Metro BMX
LOCATION:3805 Chester Ave  In The Sam Lynn Ballpark Complex Bakersfield CA 
 93301 USA
SUMMARY:Local Race Single
URL:/site/bmx_races/578204
END:VEVENT
END:VCALENDAR
