BEGIN:VCALENDAR
VERSION:2.0
PRODID:icalendar-ruby
CALSCALE:GREGORIAN
METHOD:PUBLISH
BEGIN:VEVENT
DTSTAMP:20260421T042314Z
UID:39c02ab3-948a-4c18-8ec0-64b6cba8bd38
DTSTART;VALUE=DATE:20250131
DTEND;VALUE=DATE:20250131
DESCRIPTION:Tucson BMX
LOCATION:9245 E Irvington  Tucson AZ 85730 USA
SUMMARY:Local Race Single
URL:/site/bmx_races/578313
END:VEVENT
END:VCALENDAR
