BEGIN:VCALENDAR
VERSION:2.0
PRODID:icalendar-ruby
CALSCALE:GREGORIAN
METHOD:PUBLISH
BEGIN:VEVENT
DTSTAMP:20260421T024038Z
UID:7ef80016-6f28-4237-8455-7e11417ee934
DTSTART;VALUE=DATE:20250213
DTEND;VALUE=DATE:20250213
DESCRIPTION:Tucson BMX
LOCATION:9245 E Irvington  Tucson AZ 85730 USA
SUMMARY:Practice
URL:/site/bmx_races/578464
END:VEVENT
END:VCALENDAR
