BEGIN:VCALENDAR
VERSION:2.0
PRODID:icalendar-ruby
CALSCALE:GREGORIAN
METHOD:PUBLISH
BEGIN:VEVENT
DTSTAMP:20260421T024208Z
UID:4f949d37-30d9-428e-9083-4e4bbf36db9f
DTSTART;VALUE=DATE:20250227
DTEND;VALUE=DATE:20250227
DESCRIPTION:Tucson BMX
LOCATION:9245 E Irvington  Tucson AZ 85730 USA
SUMMARY:Practice
URL:/site/bmx_races/578466
END:VEVENT
END:VCALENDAR
