BEGIN:VCALENDAR
VERSION:2.0
PRODID:icalendar-ruby
CALSCALE:GREGORIAN
METHOD:PUBLISH
BEGIN:VEVENT
DTSTAMP:20260421T010032Z
UID:c638539e-6d4a-4f68-8be4-1c1fd9ae236d
DTSTART;VALUE=DATE:20250313
DTEND;VALUE=DATE:20250313
DESCRIPTION:Tucson BMX
LOCATION:9245 E Irvington  Tucson AZ 85730 USA
SUMMARY:Practice
URL:/site/bmx_races/578468
END:VEVENT
END:VCALENDAR
