BEGIN:VCALENDAR
VERSION:2.0
PRODID:icalendar-ruby
CALSCALE:GREGORIAN
METHOD:PUBLISH
BEGIN:VEVENT
DTSTAMP:20260420T214740Z
UID:61e81a2d-0f71-4f11-9ca2-14845a6282f2
DTSTART;VALUE=DATE:20250529
DTEND;VALUE=DATE:20250529
DESCRIPTION:Tucson BMX
LOCATION:9245 E Irvington  Tucson AZ 85730 USA
SUMMARY:Practice
URL:/site/bmx_races/578479
END:VEVENT
END:VCALENDAR
