BEGIN:VCALENDAR
VERSION:2.0
PRODID:icalendar-ruby
CALSCALE:GREGORIAN
METHOD:PUBLISH
BEGIN:VEVENT
DTSTAMP:20260420T182315Z
UID:7df35f9b-619d-4020-aea1-b2cf2bb7b13f
DTSTART;VALUE=DATE:20250703
DTEND;VALUE=DATE:20250703
DESCRIPTION:Tucson BMX
LOCATION:9245 E Irvington  Tucson AZ 85730 USA
SUMMARY:Practice
URL:/site/bmx_races/578484
END:VEVENT
END:VCALENDAR
