BEGIN:VCALENDAR
VERSION:2.0
PRODID:icalendar-ruby
CALSCALE:GREGORIAN
METHOD:PUBLISH
BEGIN:VEVENT
DTSTAMP:20260423T032831Z
UID:7ef0d6a8-9d7e-4286-83fd-18f11547c088
DTSTART;VALUE=DATE:20250220
DTEND;VALUE=DATE:20250220
DESCRIPTION:Freedom Park BMX Raceway
LOCATION:530 Convair St  Camarillo CA 93010 USA
SUMMARY:Local Race Single
URL:/site/bmx_races/579257
END:VEVENT
END:VCALENDAR
