BEGIN:VCALENDAR
VERSION:2.0
PRODID:icalendar-ruby
CALSCALE:GREGORIAN
METHOD:PUBLISH
BEGIN:VEVENT
DTSTAMP:20260424T232333Z
UID:d888d080-beef-48a3-83f9-ad2a4656b689
DTSTART;VALUE=DATE:20250422
DTEND;VALUE=DATE:20250422
DESCRIPTION:Freedom Park BMX Raceway
LOCATION:530 Convair St  Camarillo CA 93010 USA
SUMMARY:Local Race Single
URL:/site/bmx_races/579283
END:VEVENT
END:VCALENDAR
