BEGIN:VCALENDAR
VERSION:2.0
PRODID:icalendar-ruby
CALSCALE:GREGORIAN
METHOD:PUBLISH
BEGIN:VEVENT
DTSTAMP:20260425T022955Z
UID:84d54ccd-3808-4c38-b9bd-29c0ba11a20b
DTSTART;VALUE=DATE:20250709
DTEND;VALUE=DATE:20250709
DESCRIPTION:Johnstown BMX
LOCATION:260 Playground Drive  Johnstown PA 15904 USA
SUMMARY:Practice
URL:/site/bmx_races/579388
END:VEVENT
END:VCALENDAR
