BEGIN:VCALENDAR
VERSION:2.0
PRODID:icalendar-ruby
CALSCALE:GREGORIAN
METHOD:PUBLISH
BEGIN:VEVENT
DTSTAMP:20260425T022955Z
UID:ba8722f6-4327-4059-b943-559207604756
DTSTART;VALUE=DATE:20250723
DTEND;VALUE=DATE:20250723
DESCRIPTION:Johnstown BMX
LOCATION:260 Playground Drive  Johnstown PA 15904 USA
SUMMARY:Practice
URL:/site/bmx_races/579394
END:VEVENT
END:VCALENDAR
