BEGIN:VCALENDAR
VERSION:2.0
PRODID:icalendar-ruby
CALSCALE:GREGORIAN
METHOD:PUBLISH
BEGIN:VEVENT
DTSTAMP:20260424T231556Z
UID:6afd55d2-9a47-47f8-81c5-43ce0b876a6f
DTSTART;VALUE=DATE:20250915
DTEND;VALUE=DATE:20250915
DESCRIPTION:Johnstown BMX
LOCATION:260 Playground Drive  Johnstown PA 15904 USA
SUMMARY:Practice
URL:/site/bmx_races/579414
END:VEVENT
END:VCALENDAR
