BEGIN:VCALENDAR
VERSION:2.0
PRODID:icalendar-ruby
CALSCALE:GREGORIAN
METHOD:PUBLISH
BEGIN:VEVENT
DTSTAMP:20260420T003930Z
UID:0df1b8bf-b0f2-44b9-a491-bbeab3822942
DTSTART;VALUE=DATE:20250902
DTEND;VALUE=DATE:20250902
DESCRIPTION:Omaha BMX
LOCATION:11111 W Maple Rd  Omaha NE 68164 USA
SUMMARY:Practice
URL:/site/bmx_races/579463
END:VEVENT
END:VCALENDAR
