BEGIN:VCALENDAR
VERSION:2.0
PRODID:icalendar-ruby
CALSCALE:GREGORIAN
METHOD:PUBLISH
BEGIN:VEVENT
DTSTAMP:20260419T170647Z
UID:6ca2eaf9-64e3-456f-b1c0-23e7778d6474
DTSTART;VALUE=DATE:20250904
DTEND;VALUE=DATE:20250904
DESCRIPTION:Razor City BMX
LOCATION:200 Pumphouse Ln  Gillette WY 82716 USA
SUMMARY:Local Race Single
URL:/site/bmx_races/579672
END:VEVENT
END:VCALENDAR
