BEGIN:VCALENDAR
VERSION:2.0
PRODID:icalendar-ruby
CALSCALE:GREGORIAN
METHOD:PUBLISH
BEGIN:VEVENT
DTSTAMP:20260424T110155Z
UID:322c6146-6236-4449-b68d-19771d968cec
DTSTART;VALUE=DATE:20250923
DTEND;VALUE=DATE:20250923
DESCRIPTION:Chehalem Valley BMX
LOCATION:1201 Blaine St  Newberg OR 97132 USA
SUMMARY:Local Race Single
URL:/site/bmx_races/580337
END:VEVENT
END:VCALENDAR
