BEGIN:VCALENDAR
VERSION:2.0
PRODID:icalendar-ruby
CALSCALE:GREGORIAN
METHOD:PUBLISH
BEGIN:VEVENT
DTSTAMP:20260422T115232Z
UID:3cd8b4b1-5f4f-4c15-b92b-bfbbf77e83c1
DTSTART;VALUE=DATE:20250512
DTEND;VALUE=DATE:20250512
DESCRIPTION:Bend BMX
LOCATION:21690 Neff Road  Bend OR 97701 USA
SUMMARY:Local Race Single
URL:/site/bmx_races/580382
END:VEVENT
END:VCALENDAR
