BEGIN:VCALENDAR
VERSION:2.0
PRODID:icalendar-ruby
CALSCALE:GREGORIAN
METHOD:PUBLISH
BEGIN:VEVENT
DTSTAMP:20260422T070857Z
UID:fc7fbe40-c246-4e31-8ad9-aae935c0d8a0
DTSTART;VALUE=DATE:20250820
DTEND;VALUE=DATE:20250820
DESCRIPTION:Bend BMX
LOCATION:21690 Neff Road  Bend OR 97701 USA
SUMMARY:Local Race Single
URL:/site/bmx_races/580411
END:VEVENT
END:VCALENDAR
