BEGIN:VCALENDAR
VERSION:2.0
PRODID:icalendar-ruby
CALSCALE:GREGORIAN
METHOD:PUBLISH
BEGIN:VEVENT
DTSTAMP:20260420T093612Z
UID:8ecf73e3-ad22-4407-b406-18b819c99e1d
DTSTART;VALUE=DATE:20250616
DTEND;VALUE=DATE:20250616
DESCRIPTION:Stouffville BMX
LOCATION:3291 Stouffville Rd  Whitchurch-Stouffville ON L4A7X5 CAN
SUMMARY:Practice
URL:/site/bmx_races/581101
END:VEVENT
END:VCALENDAR
