BEGIN:VCALENDAR
VERSION:2.0
PRODID:icalendar-ruby
CALSCALE:GREGORIAN
METHOD:PUBLISH
BEGIN:VEVENT
DTSTAMP:20260420T061840Z
UID:99e7bab6-2f72-4a19-a7c7-e5c026a9752e
DTSTART;VALUE=DATE:20250818
DTEND;VALUE=DATE:20250818
DESCRIPTION:Stouffville BMX
LOCATION:3291 Stouffville Rd  Whitchurch-Stouffville ON L4A7X5 CAN
SUMMARY:Practice
URL:/site/bmx_races/581110
END:VEVENT
END:VCALENDAR
