BEGIN:VCALENDAR
VERSION:2.0
PRODID:icalendar-ruby
CALSCALE:GREGORIAN
METHOD:PUBLISH
BEGIN:VEVENT
DTSTAMP:20260420T065611Z
UID:337427f7-9cf3-4383-9bd7-edda77654556
DTSTART;VALUE=DATE:20250611
DTEND;VALUE=DATE:20250611
DESCRIPTION:Boulder BMX\, Inc
LOCATION:1799 Commons Way  Boulder City NV 89005 USA
SUMMARY:Practice
URL:/site/bmx_races/581209
END:VEVENT
END:VCALENDAR
