BEGIN:VCALENDAR
VERSION:2.0
PRODID:icalendar-ruby
CALSCALE:GREGORIAN
METHOD:PUBLISH
BEGIN:VEVENT
DTSTAMP:20260420T033632Z
UID:f5f89450-0f5a-4277-a431-31ada5ba7fce
DTSTART;VALUE=DATE:20250702
DTEND;VALUE=DATE:20250702
DESCRIPTION:Boulder BMX\, Inc
LOCATION:1799 Commons Way  Boulder City NV 89005 USA
SUMMARY:Practice
URL:/site/bmx_races/581215
END:VEVENT
END:VCALENDAR
