BEGIN:VCALENDAR
VERSION:2.0
PRODID:icalendar-ruby
CALSCALE:GREGORIAN
METHOD:PUBLISH
BEGIN:VEVENT
DTSTAMP:20260420T033513Z
UID:5017f43e-830f-4a41-a4c0-c04de48a6913
DTSTART;VALUE=DATE:20250820
DTEND;VALUE=DATE:20250820
DESCRIPTION:Boulder BMX\, Inc
LOCATION:1799 Commons Way  Boulder City NV 89005 USA
SUMMARY:Practice
URL:/site/bmx_races/581229
END:VEVENT
END:VCALENDAR
