BEGIN:VCALENDAR
VERSION:2.0
PRODID:icalendar-ruby
CALSCALE:GREGORIAN
METHOD:PUBLISH
BEGIN:VEVENT
DTSTAMP:20260420T001141Z
UID:ec9fa784-776d-4b41-afb8-00fd3630535b
DTSTART;VALUE=DATE:20251029
DTEND;VALUE=DATE:20251029
DESCRIPTION:Boulder BMX\, Inc
LOCATION:1799 Commons Way  Boulder City NV 89005 USA
SUMMARY:Practice
URL:/site/bmx_races/581249
END:VEVENT
END:VCALENDAR
