BEGIN:VCALENDAR
VERSION:2.0
PRODID:icalendar-ruby
CALSCALE:GREGORIAN
METHOD:PUBLISH
BEGIN:VEVENT
DTSTAMP:20260424T153031Z
UID:d1b0a7cf-aec4-47fc-9866-f82e7567d4ac
DTSTART;VALUE=DATE:20250917
DTEND;VALUE=DATE:20250917
DESCRIPTION:Virgin BMX
LOCATION:425 N. Kolob Rd  Virgin UT 84779 USA
SUMMARY:Local Race Single
URL:/site/bmx_races/581370
END:VEVENT
END:VCALENDAR
