BEGIN:VCALENDAR
VERSION:2.0
PRODID:icalendar-ruby
CALSCALE:GREGORIAN
METHOD:PUBLISH
BEGIN:VEVENT
DTSTAMP:20260425T230116Z
UID:3ccd7f3b-c086-4517-a476-ea83f9f5429a
DTSTART;VALUE=DATE:20250119
DTEND;VALUE=DATE:20250119
DESCRIPTION:Woodward Park BMX
LOCATION:7775 N Friant Rd  Fresno CA 93720 USA
SUMMARY:Local Race Single
URL:/site/bmx_races/581509
END:VEVENT
END:VCALENDAR
