BEGIN:VCALENDAR
VERSION:2.0
PRODID:icalendar-ruby
CALSCALE:GREGORIAN
METHOD:PUBLISH
BEGIN:VEVENT
DTSTAMP:20260421T080252Z
UID:14577ade-339d-4fdf-b7b2-f2c48ad783af
DTSTART;VALUE=DATE:20250428
DTEND;VALUE=DATE:20250428
DESCRIPTION:Spokes BMX
LOCATION: 2550 W Bennett  Springfield MO 65807 USA
SUMMARY:Practice
URL:/site/bmx_races/581566
END:VEVENT
END:VCALENDAR
