BEGIN:VCALENDAR
VERSION:2.0
PRODID:icalendar-ruby
CALSCALE:GREGORIAN
METHOD:PUBLISH
BEGIN:VEVENT
DTSTAMP:20260421T025209Z
UID:4e6da1aa-e769-4934-ba30-92c6878db873
DTSTART;VALUE=DATE:20250727
DTEND;VALUE=DATE:20250727
DESCRIPTION:Spokes BMX
LOCATION: 2550 W Bennett  Springfield MO 65807 USA
SUMMARY:Local Race Single
URL:/site/bmx_races/581604
END:VEVENT
END:VCALENDAR
