BEGIN:VCALENDAR
VERSION:2.0
PRODID:icalendar-ruby
CALSCALE:GREGORIAN
METHOD:PUBLISH
BEGIN:VEVENT
DTSTAMP:20260420T170105Z
UID:f8d41a7a-b567-4e30-96fa-cb14eecaf050
DTSTART;VALUE=DATE:20241109
DTEND;VALUE=DATE:20241109
DESCRIPTION:River City BMX
LOCATION:251 Ne Agness  Grants Pass OR 97526 USA
SUMMARY:Local Race Single
URL:/site/bmx_races/581864
END:VEVENT
END:VCALENDAR
