BEGIN:VCALENDAR
VERSION:2.0
PRODID:icalendar-ruby
CALSCALE:GREGORIAN
METHOD:PUBLISH
BEGIN:VEVENT
DTSTAMP:20260420T170105Z
UID:14e957ee-87cc-46f7-9b08-49dde62b43c0
DTSTART;VALUE=DATE:20241119
DTEND;VALUE=DATE:20241119
DESCRIPTION:River City BMX
LOCATION:251 Ne Agness  Grants Pass OR 97526 USA
SUMMARY:Local Race Single
URL:/site/bmx_races/581867
END:VEVENT
END:VCALENDAR
