BEGIN:VCALENDAR
VERSION:2.0
PRODID:icalendar-ruby
CALSCALE:GREGORIAN
METHOD:PUBLISH
BEGIN:VEVENT
DTSTAMP:20260419T225755Z
UID:cb0428e3-f357-4c14-816e-5db2a5f328f3
DTSTART;VALUE=DATE:20251011
DTEND;VALUE=DATE:20251011
DESCRIPTION:River City BMX
LOCATION:251 Ne Agness  Grants Pass OR 97526 USA
SUMMARY:Local Race Single
URL:/site/bmx_races/582255
END:VEVENT
END:VCALENDAR
