BEGIN:VCALENDAR
VERSION:2.0
PRODID:icalendar-ruby
CALSCALE:GREGORIAN
METHOD:PUBLISH
BEGIN:VEVENT
DTSTAMP:20260420T170229Z
UID:87d91f82-6002-4ac7-9ee7-c0da1655395c
DTSTART;VALUE=DATE:20241118
DTEND;VALUE=DATE:20241118
DESCRIPTION:Marysville BMX
LOCATION:618 N Main St  Marysville OH 43040 USA
SUMMARY:Practice
URL:/site/bmx_races/582650
END:VEVENT
END:VCALENDAR
