BEGIN:VCALENDAR
VERSION:2.0
PRODID:icalendar-ruby
CALSCALE:GREGORIAN
METHOD:PUBLISH
BEGIN:VEVENT
DTSTAMP:20260420T094923Z
UID:01de27d4-77d1-4c32-ae9c-601c95cc9614
DTSTART;VALUE=DATE:20250617
DTEND;VALUE=DATE:20250617
DESCRIPTION:Mike Sedar BMX
LOCATION:789 College Dr  Casper WY 82601 USA
SUMMARY:Local Race Single
URL:/site/bmx_races/582850
END:VEVENT
END:VCALENDAR
