BEGIN:VCALENDAR
VERSION:2.0
PRODID:icalendar-ruby
CALSCALE:GREGORIAN
METHOD:PUBLISH
BEGIN:VEVENT
DTSTAMP:20260420T082035Z
UID:fbfdab29-5173-4365-b858-09d6c9bbd529
DTSTART;VALUE=DATE:20250906
DTEND;VALUE=DATE:20250906
DESCRIPTION:Eagle Park BMX
LOCATION:11800 N Horseshoe Bend Rd  Eagle ID 83616 USA
SUMMARY:Local Race Single
URL:/site/bmx_races/582940
END:VEVENT
END:VCALENDAR
