BEGIN:VCALENDAR
VERSION:2.0
PRODID:icalendar-ruby
CALSCALE:GREGORIAN
METHOD:PUBLISH
BEGIN:VEVENT
DTSTAMP:20260424T090900Z
UID:baf72d65-aa7b-4371-a084-e6a6f3ec928c
DTSTART;VALUE=DATE:20250822
DTEND;VALUE=DATE:20250822
DESCRIPTION:Smith Rock BMX
LOCATION:1935 Ne Maple  Redmond OR 97756 USA
SUMMARY:Local Race Single
URL:/site/bmx_races/583102
END:VEVENT
END:VCALENDAR
